BEGIN:VCALENDAR
VERSION:2.0
PRODID:-//iStudent Academy - ECPv6.15.20//NONSGML v1.0//EN
CALSCALE:GREGORIAN
METHOD:PUBLISH
X-WR-CALNAME:iStudent Academy
X-ORIGINAL-URL:https://istudentacademy.com
X-WR-CALDESC:Events for iStudent Academy
REFRESH-INTERVAL;VALUE=DURATION:PT1H
X-Robots-Tag:noindex
X-PUBLISHED-TTL:PT1H
BEGIN:VTIMEZONE
TZID:UTC
BEGIN:STANDARD
TZOFFSETFROM:+0000
TZOFFSETTO:+0000
TZNAME:UTC
DTSTART:20250101T000000
END:STANDARD
END:VTIMEZONE
BEGIN:VEVENT
DTSTART;TZID=UTC:20260523T090000
DTEND;TZID=UTC:20260523T120000
DTSTAMP:20260420T003734
CREATED:20260105T142011Z
LAST-MODIFIED:20260211T080323Z
UID:2141-1779526800-1779537600@istudentacademy.com
SUMMARY:2027 INTAKE NATIONAL OPEN DAY - 23 MAY 2026
DESCRIPTION:ALL CAMPUSES – Come take a look at the College that specializes in Technology careers!\n\n\n\n\niStudent Academy would like to invite you to join us for our Open Day for the 2027 Intake – classes starting in February 2027! \nOur awesome career advisers will explain the structure of our courses in detail\, the added benefits we offer as a college\, and why businesses seek out our graduates to employ! \n\n\nJoin us at any of our campuses – Durban\, Pietermaritzburg\, Johannesburg or Cape Town Campus – just choose which campus when you book your seat! \n\n\n\n\nDon’t forget to book your seat today by using the form below or click here.
URL:https://istudentacademy.com/events/2027-intake-national-open-day-23-may-2026/
ATTACH;FMTTYPE=image/png:https://istudentacademy.com/wp-content/uploads/2026/02/Green-And-Yellow-Minimalist-Admission-Open-For-Student-Instagram-Post.png
ORGANIZER;CN="iStudent Academy DBN":MAILTO:claire@istudentacademy.co.za
END:VEVENT
BEGIN:VEVENT
DTSTART;TZID=UTC:20260629T090000
DTEND;TZID=UTC:20260703T140000
DTSTAMP:20260420T003734
CREATED:20250710T111208Z
LAST-MODIFIED:20260212T064338Z
UID:2088-1782723600-1783087200@istudentacademy.com
SUMMARY:NATIONAL CAREER WORKSHOPS
DESCRIPTION:The aim of our Career Workshops is to allow Matric and other potential students to experience a day in the life on our campus and to learn basic skills in either I.T\, Graphic Design\, or Computer Aided Draughting! \n  \nWORKSHOP BENEFITS: \n\nTest drive your college and course – Become a student for the day and learn more about the basics of your potential Career from our expert instructors.\nCertificate of Completion – Earn a Certificate of Completion for your CV.\nFuture Insight – Make a more informed choice for your future career when you understand what you will be studying!\n\n  \nWe only have limited spaces in the prestigious workshops available! RSVP is essential. \nTo RSVP\, click here  \n  \nOr complete the form below!
URL:https://istudentacademy.com/events/national-career-workshops-2/
ATTACH;FMTTYPE=image/png:https://istudentacademy.com/wp-content/uploads/2026/02/Black-And-White-Minimalist-Business-Workshop-Instagram-Post.png
ORGANIZER;CN="iStudent Academy CPT":MAILTO:CareerAdvisorCPT@istudentacademy.co.za
END:VEVENT
END:VCALENDAR